BEGIN:VCALENDAR
VERSION:2.0
PRODID:Spatie calendar-links
BEGIN:VEVENT
UID:23f71e69-5e8d-4b8d-a419-59364279f77e
SUMMARY:All Ball: PS 15\, 4 v 4 Full\, Rookie
DTSTAMP:20260423T223000Z
DTSTART:20260423T223000Z
DTEND:20260424T001500Z
LOCATION:333 East 4th Street \nNew York\, NY\, 10009
END:VEVENT
END:VCALENDAR