BEGIN:VCALENDAR
VERSION:2.0
PRODID:Spatie calendar-links
BEGIN:VEVENT
UID:8c101571-bdfb-4719-8268-5850263ac03b
SUMMARY:All Ball: PS 15\, 4 v 4 Full
DTSTAMP:20260427T223000Z
DTSTART:20260427T223000Z
DTEND:20260428T001500Z
LOCATION:333 East 4th Street \nNew York\, NY\, 10009
END:VEVENT
END:VCALENDAR