BEGIN:VCALENDAR
VERSION:2.0
PRODID:Spatie calendar-links
BEGIN:VEVENT
UID:26caefe0-09c8-4fdd-a3a9-7c055227b3c4
SUMMARY:All Ball: PS 15\, 4 v 4 Full\, Casual
DTSTAMP:20260428T223000Z
DTSTART:20260428T223000Z
DTEND:20260429T001500Z
LOCATION:333 East 4th Street \nNew York\, NY\, 10009
END:VEVENT
END:VCALENDAR