BEGIN:VCALENDAR
VERSION:2.0
PRODID:Spatie calendar-links
BEGIN:VEVENT
UID:0827851c-d9c7-47e2-9b5e-5ef29394fbc4
SUMMARY:All Ball: PS 64\, 5 v 5 Full
DTSTAMP:20260425T123000Z
DTSTART:20260425T123000Z
DTEND:20260425T141500Z
LOCATION:600 East 6th Street \nNew York\, NY\, 10009
END:VEVENT
END:VCALENDAR