BEGIN:VCALENDAR
VERSION:2.0
PRODID:Spatie calendar-links
BEGIN:VEVENT
UID:0cf0484f-181d-4935-9bc5-d4202fbc63ae
SUMMARY:All Ball: PS 64\, 5 v 5 Full\, Select
DTSTAMP:20260425T160000Z
DTSTART:20260425T160000Z
DTEND:20260425T174500Z
LOCATION:600 East 6th Street \nNew York\, NY\, 10009
END:VEVENT
END:VCALENDAR