BEGIN:VCALENDAR
VERSION:2.0
PRODID:Spatie calendar-links
BEGIN:VEVENT
UID:a6bf60a4-9b14-4b14-9992-59db4d5fc40d
SUMMARY:All Ball: PS 64\, 5 v 5 Full\, Elite
DTSTAMP:20260425T174500Z
DTSTART:20260425T174500Z
DTEND:20260425T193000Z
LOCATION:600 East 6th Street \nNew York\, NY\, 10009
END:VEVENT
END:VCALENDAR