BEGIN:VCALENDAR
VERSION:2.0
PRODID:Spatie calendar-links
BEGIN:VEVENT
UID:ce8130ff-f612-4e48-b0d0-35dafcf109e1
SUMMARY:All Ball: PS 116\, 5 v 5 Full
DTSTAMP:20260425T123000Z
DTSTART:20260425T123000Z
DTEND:20260425T141500Z
LOCATION:210 East 33rd Street \nNew York\, NY\, 10016
END:VEVENT
END:VCALENDAR