BEGIN:VCALENDAR
VERSION:2.0
PRODID:Spatie calendar-links
BEGIN:VEVENT
UID:ffec2a4c-373a-4567-83cd-1fc4716dd1cf
SUMMARY:All Ball: PS 116\, 5 v 5 Full
DTSTAMP:20260425T174500Z
DTSTART:20260425T174500Z
DTEND:20260425T193000Z
LOCATION:210 East 33rd Street \nNew York\, NY\, 10016
END:VEVENT
END:VCALENDAR