BEGIN:VCALENDAR
VERSION:2.0
PRODID:Spatie calendar-links
BEGIN:VEVENT
UID:8615d966-6afa-4e83-b691-8e0d2d3c5094
SUMMARY:All Ball: PS 116\, 5 v 5 Full\, Casual
DTSTAMP:20260426T123000Z
DTSTART:20260426T123000Z
DTEND:20260426T141500Z
LOCATION:210 East 33rd Street \nNew York\, NY\, 10016
END:VEVENT
END:VCALENDAR