BEGIN:VCALENDAR
VERSION:2.0
PRODID:Spatie calendar-links
BEGIN:VEVENT
UID:d01ca49e-1f56-4068-bf4d-9902bad0c53d
SUMMARY:All Ball: PS 116\, 5 v 5 Full\, Select
DTSTAMP:20260426T174500Z
DTSTART:20260426T174500Z
DTEND:20260426T193000Z
LOCATION:210 East 33rd Street \nNew York\, NY\, 10016
END:VEVENT
END:VCALENDAR