BEGIN:VCALENDAR
VERSION:2.0
PRODID:Spatie calendar-links
BEGIN:VEVENT
UID:43df217c-d43e-4553-852e-9aafabcdf242
SUMMARY:All Ball: PS 116\, 5 v 5 Full
DTSTAMP:20260426T141500Z
DTSTART:20260426T141500Z
DTEND:20260426T160000Z
LOCATION:210 East 33rd Street \nNew York\, NY\, 10016
END:VEVENT
END:VCALENDAR