BEGIN:VCALENDAR
VERSION:2.0
PRODID:Spatie calendar-links
BEGIN:VEVENT
UID:ef5c535b-5a29-466f-9a23-1fd45cff5bb2
SUMMARY:All Ball: PS 171\, 5 v 5 Full
DTSTAMP:20260423T221500Z
DTSTART:20260423T221500Z
DTEND:20260424T000000Z
LOCATION:14-14 29th Avenue \nAstoria\, NY\, 11102
END:VEVENT
END:VCALENDAR