BEGIN:VCALENDAR
VERSION:2.0
PRODID:Spatie calendar-links
BEGIN:VEVENT
UID:defbba47-8a59-4292-b0d1-ad88c70e4909
SUMMARY:All Ball: PS 171\, 5 v 5 Full
DTSTAMP:20260426T123000Z
DTSTART:20260426T123000Z
DTEND:20260426T140000Z
LOCATION:14-14 29th Avenue \nAstoria\, NY\, 11102
END:VEVENT
END:VCALENDAR