BEGIN:VCALENDAR
VERSION:2.0
PRODID:Spatie calendar-links
BEGIN:VEVENT
UID:0d4c69c4-d91b-42e0-91cb-dccbc26679d5
SUMMARY:All Ball: PS 171\, 5 v 5 Full\, Select
DTSTAMP:20260426T140000Z
DTSTART:20260426T140000Z
DTEND:20260426T153000Z
LOCATION:14-14 29th Avenue \nAstoria\, NY\, 11102
END:VEVENT
END:VCALENDAR