BEGIN:VCALENDAR
VERSION:2.0
PRODID:Spatie calendar-links
BEGIN:VEVENT
UID:8b98c10c-9817-498a-a1bc-e5e024e40d3a
SUMMARY:All Ball: PS 171\, 5 v 5 Full\, Casual
DTSTAMP:20260428T004500Z
DTSTART:20260428T004500Z
DTEND:20260428T023000Z
LOCATION:14-14 29th Avenue \nAstoria\, NY\, 11102
END:VEVENT
END:VCALENDAR