BEGIN:VCALENDAR
VERSION:2.0
PRODID:Spatie calendar-links
BEGIN:VEVENT
UID:184b80a0-7933-4f2b-bbf3-28c87ab9b87a
SUMMARY:All Ball: PS 171\, 5 v 5 Full
DTSTAMP:20260430T004500Z
DTSTART:20260430T004500Z
DTEND:20260430T023000Z
LOCATION:14-14 29th Avenue \nAstoria\, NY\, 11102
END:VEVENT
END:VCALENDAR