BEGIN:VCALENDAR
VERSION:2.0
PRODID:Spatie calendar-links
BEGIN:VEVENT
UID:06d45aa9-1a00-4464-96f1-c8c6f1b64170
SUMMARY:All Ball: PS 171\, 5 v 5 Full
DTSTAMP:20260430T221500Z
DTSTART:20260430T221500Z
DTEND:20260501T000000Z
LOCATION:14-14 29th Avenue \nAstoria\, NY\, 11102
END:VEVENT
END:VCALENDAR