BEGIN:VCALENDAR
VERSION:2.0
PRODID:Spatie calendar-links
BEGIN:VEVENT
UID:87c907e5-8156-4e49-a4a5-b9013e909c82
SUMMARY:All Ball: PS 171\, 5 v 5 Full
DTSTAMP:20260501T000000Z
DTSTART:20260501T000000Z
DTEND:20260501T014500Z
LOCATION:14-14 29th Avenue \nAstoria\, NY\, 11102
END:VEVENT
END:VCALENDAR