BEGIN:VCALENDAR
VERSION:2.0
PRODID:Spatie calendar-links
BEGIN:VEVENT
UID:baf7d604-ec97-47f4-a683-e2f0ed3d481f
SUMMARY:All Ball: PS 191\, 5 v 5 Full
DTSTAMP:20260426T144500Z
DTSTART:20260426T144500Z
DTEND:20260426T163000Z
LOCATION:85-15 258th Street \nFloral Park\, NY\, 11001
END:VEVENT
END:VCALENDAR