BEGIN:VCALENDAR
VERSION:2.0
PRODID:Spatie calendar-links
BEGIN:VEVENT
UID:773869a4-258f-4f6e-b8e0-e522a3069762
SUMMARY:All Ball: PS 162\, 5 v 5 Full
DTSTAMP:20260427T223000Z
DTSTART:20260427T223000Z
DTEND:20260428T000000Z
LOCATION:102-02 53rd Ave. \nBayside\, NY\, 11364
END:VEVENT
END:VCALENDAR