BEGIN:VCALENDAR
VERSION:2.0
PRODID:Spatie calendar-links
BEGIN:VEVENT
UID:c1ce8c16-2ed9-4f4f-87ce-a0d5a07c0fc6
SUMMARY:All Ball: PS 162\, 5 v 5 Full\, Select
DTSTAMP:20260428T000000Z
DTSTART:20260428T000000Z
DTEND:20260428T013000Z
LOCATION:102-02 53rd Ave. \nBayside\, NY\, 11364
END:VEVENT
END:VCALENDAR