BEGIN:VCALENDAR
VERSION:2.0
PRODID:Spatie calendar-links
BEGIN:VEVENT
UID:d528c1c2-4340-4d33-9676-40d8901a47ea
SUMMARY:All Ball: PS 162\, 5 v 5 Full\, Casual
DTSTAMP:20260429T223000Z
DTSTART:20260429T223000Z
DTEND:20260430T000000Z
LOCATION:102-02 53rd Ave. \nBayside\, NY\, 11364
END:VEVENT
END:VCALENDAR