BEGIN:VCALENDAR
VERSION:2.0
PRODID:Spatie calendar-links
BEGIN:VEVENT
UID:531a149b-1a05-4efd-b223-1e7ca3b63b8a
SUMMARY:All Ball: PS 162\, 5 v 5 Full
DTSTAMP:20260430T000000Z
DTSTART:20260430T000000Z
DTEND:20260430T013000Z
LOCATION:102-02 53rd Ave. \nBayside\, NY\, 11364
END:VEVENT
END:VCALENDAR