BEGIN:VCALENDAR
VERSION:2.0
PRODID:Spatie calendar-links
BEGIN:VEVENT
UID:ec2be519-d604-4cd6-9d47-e4087f80c03d
SUMMARY:All Ball: PS 47\, 5 v 5 Full\, Select
DTSTAMP:20260425T123000Z
DTSTART:20260425T123000Z
DTEND:20260425T141500Z
LOCATION:223 East 23rd Street \nNew York\, NY\, 10010
END:VEVENT
END:VCALENDAR