BEGIN:VCALENDAR
VERSION:2.0
PRODID:Spatie calendar-links
BEGIN:VEVENT
UID:bb51fe4f-cce9-44a2-ae26-35530bf9d7af
SUMMARY:All Ball: PS 47\, 5 v 5 Full
DTSTAMP:20260425T161500Z
DTSTART:20260425T161500Z
DTEND:20260425T180000Z
LOCATION:223 East 23rd Street \nNew York\, NY\, 10010
END:VEVENT
END:VCALENDAR