BEGIN:VCALENDAR
VERSION:2.0
PRODID:Spatie calendar-links
BEGIN:VEVENT
UID:b2b3bb37-0762-4a3d-b590-90f3df2b8b18
SUMMARY:All Ball: PS 47\, 5 v 5 Full\, Casual
DTSTAMP:20260425T180000Z
DTSTART:20260425T180000Z
DTEND:20260425T194500Z
LOCATION:223 East 23rd Street \nNew York\, NY\, 10010
END:VEVENT
END:VCALENDAR