BEGIN:VCALENDAR
VERSION:2.0
PRODID:Spatie calendar-links
BEGIN:VEVENT
UID:f15912c3-b049-4fc8-9df3-041314406873
SUMMARY:All Ball: PS 47\, 5 v 5 Full
DTSTAMP:20260425T194500Z
DTSTART:20260425T194500Z
DTEND:20260425T213000Z
LOCATION:223 East 23rd Street \nNew York\, NY\, 10010
END:VEVENT
END:VCALENDAR