BEGIN:VCALENDAR
VERSION:2.0
PRODID:Spatie calendar-links
BEGIN:VEVENT
UID:91421a94-903f-465b-a18b-f38e6513c7b3
SUMMARY:All Ball: PS 47\, 5 v 5 Full\, Select
DTSTAMP:20260426T161500Z
DTSTART:20260426T161500Z
DTEND:20260426T180000Z
LOCATION:223 East 23rd Street \nNew York\, NY\, 10010
END:VEVENT
END:VCALENDAR