BEGIN:VCALENDAR
VERSION:2.0
PRODID:Spatie calendar-links
BEGIN:VEVENT
UID:e09bc224-d3c4-47f6-8c43-6db5cad7c17b
SUMMARY:All Ball: PS 47\, 5 v 5 Full
DTSTAMP:20260426T180000Z
DTSTART:20260426T180000Z
DTEND:20260426T194500Z
LOCATION:223 East 23rd Street \nNew York\, NY\, 10010
END:VEVENT
END:VCALENDAR