BEGIN:VCALENDAR
VERSION:2.0
PRODID:Spatie calendar-links
BEGIN:VEVENT
UID:56218fc7-3ab0-473c-8020-03a2d392a8fb
SUMMARY:All Ball: PS 47\, 5 v 5 Full\, Elite
DTSTAMP:20260426T194500Z
DTSTART:20260426T194500Z
DTEND:20260426T213000Z
LOCATION:223 East 23rd Street \nNew York\, NY\, 10010
END:VEVENT
END:VCALENDAR