BEGIN:VCALENDAR
VERSION:2.0
PRODID:Spatie calendar-links
BEGIN:VEVENT
UID:9f6e9e57-a65c-438b-a46b-f6875920fc14
SUMMARY:All Ball: PS 47\, 5 v 5 Full\, Casual
DTSTAMP:20260427T233500Z
DTSTART:20260427T233500Z
DTEND:20260428T010500Z
LOCATION:223 East 23rd Street \nNew York\, NY\, 10010
END:VEVENT
END:VCALENDAR