BEGIN:VCALENDAR
VERSION:2.0
PRODID:Spatie calendar-links
BEGIN:VEVENT
UID:99872c8f-2820-44bf-8bd6-c1035d5971d4
SUMMARY:All Ball: PS 47\, 5 v 5 Full
DTSTAMP:20260428T010500Z
DTSTART:20260428T010500Z
DTEND:20260428T023500Z
LOCATION:223 East 23rd Street \nNew York\, NY\, 10010
END:VEVENT
END:VCALENDAR