BEGIN:VCALENDAR
VERSION:2.0
PRODID:Spatie calendar-links
BEGIN:VEVENT
UID:92e262f2-6d99-413b-9635-4111ce87b74a
SUMMARY:All Ball: PS 47\, 5 v 5 Full
DTSTAMP:20260428T233500Z
DTSTART:20260428T233500Z
DTEND:20260429T010500Z
LOCATION:223 East 23rd Street \nNew York\, NY\, 10010
END:VEVENT
END:VCALENDAR