BEGIN:VCALENDAR
VERSION:2.0
PRODID:Spatie calendar-links
BEGIN:VEVENT
UID:44661e13-af46-4e34-a187-6c5a168f4a07
SUMMARY:All Ball: PS 47\, 5 v 5 Full\, Select
DTSTAMP:20260429T010500Z
DTSTART:20260429T010500Z
DTEND:20260429T023500Z
LOCATION:223 East 23rd Street \nNew York\, NY\, 10010
END:VEVENT
END:VCALENDAR