BEGIN:VCALENDAR
VERSION:2.0
PRODID:Spatie calendar-links
BEGIN:VEVENT
UID:8a72bb03-377b-4076-80f6-1b30270f4910
SUMMARY:All Ball: PS 47\, 5 v 5 Full
DTSTAMP:20260429T233500Z
DTSTART:20260429T233500Z
DTEND:20260430T010500Z
LOCATION:223 East 23rd Street \nNew York\, NY\, 10010
END:VEVENT
END:VCALENDAR