BEGIN:VCALENDAR
VERSION:2.0
PRODID:Spatie calendar-links
BEGIN:VEVENT
UID:39858fe9-695a-4460-bd6d-4bdcc8539168
SUMMARY:All Ball: PS 47\, 5 v 5 Full\, Rookie
DTSTAMP:20260430T010500Z
DTSTART:20260430T010500Z
DTEND:20260430T023500Z
LOCATION:223 East 23rd Street \nNew York\, NY\, 10010
END:VEVENT
END:VCALENDAR