BEGIN:VCALENDAR
VERSION:2.0
PRODID:Spatie calendar-links
BEGIN:VEVENT
UID:4823926c-93f2-420b-99f5-489f1097f992
SUMMARY:All Ball: PS 47\, 5 v 5 Full\, Casual
DTSTAMP:20260430T233500Z
DTSTART:20260430T233500Z
DTEND:20260501T010500Z
LOCATION:223 East 23rd Street \nNew York\, NY\, 10010
END:VEVENT
END:VCALENDAR