BEGIN:VCALENDAR
VERSION:2.0
PRODID:Spatie calendar-links
BEGIN:VEVENT
UID:41da1f8e-a10a-45ed-99bb-54e2eb0dffe3
SUMMARY:All Ball: PS 47\, 5 v 5 Full
DTSTAMP:20260501T010500Z
DTSTART:20260501T010500Z
DTEND:20260501T023500Z
LOCATION:223 East 23rd Street \nNew York\, NY\, 10010
END:VEVENT
END:VCALENDAR