BEGIN:VCALENDAR
VERSION:2.0
PRODID:Spatie calendar-links
BEGIN:VEVENT
UID:4fc765f0-242f-4e2e-9f18-bf0dcda1a33b
SUMMARY:All Ball: PS 35\, 5 v 5 Full
DTSTAMP:20260415T221500Z
DTSTART:20260415T221500Z
DTEND:20260415T234500Z
LOCATION:317 West 52nd Street \nNew York\, NY\, 10019
END:VEVENT
END:VCALENDAR