BEGIN:VCALENDAR
VERSION:2.0
PRODID:Spatie calendar-links
BEGIN:VEVENT
UID:01d94224-b532-4f2f-8417-2d3ec550686e
SUMMARY:All Ball: PS 35\, 5 v 5 Full\, Casual
DTSTAMP:20260425T183000Z
DTSTART:20260425T183000Z
DTEND:20260425T203000Z
LOCATION:317 West 52nd Street \nNew York\, NY\, 10019
END:VEVENT
END:VCALENDAR