BEGIN:VCALENDAR
VERSION:2.0
PRODID:Spatie calendar-links
BEGIN:VEVENT
UID:677de35b-d5b6-4790-8caa-875067acf3fb
SUMMARY:All Ball: PS 35\, 5 v 5 Full\, Select
DTSTAMP:20260426T124500Z
DTSTART:20260426T124500Z
DTEND:20260426T144500Z
LOCATION:317 West 52nd Street \nNew York\, NY\, 10019
END:VEVENT
END:VCALENDAR