BEGIN:VCALENDAR
VERSION:2.0
PRODID:Spatie calendar-links
BEGIN:VEVENT
UID:eade25bd-3d59-4ba9-8811-e2ae8d4bbe7a
SUMMARY:All Ball: PS 35\, 5 v 5 Full
DTSTAMP:20260426T144500Z
DTSTART:20260426T144500Z
DTEND:20260426T163000Z
LOCATION:317 West 52nd Street \nNew York\, NY\, 10019
END:VEVENT
END:VCALENDAR