BEGIN:VCALENDAR
VERSION:2.0
PRODID:Spatie calendar-links
BEGIN:VEVENT
UID:36b2a4a6-e31a-4d43-981d-c3cdd06e9656
SUMMARY:All Ball: PS 35\, 5 v 5 Full\, Rookie
DTSTAMP:20260426T163000Z
DTSTART:20260426T163000Z
DTEND:20260426T183000Z
LOCATION:317 West 52nd Street \nNew York\, NY\, 10019
END:VEVENT
END:VCALENDAR