BEGIN:VCALENDAR
VERSION:2.0
PRODID:Spatie calendar-links
BEGIN:VEVENT
UID:51b86a9e-e17e-4140-b9e5-e8ad1547d57e
SUMMARY:All Ball: PS 35\, 5 v 5 Full
DTSTAMP:20260426T183000Z
DTSTART:20260426T183000Z
DTEND:20260426T203000Z
LOCATION:317 West 52nd Street \nNew York\, NY\, 10019
END:VEVENT
END:VCALENDAR