BEGIN:VCALENDAR
VERSION:2.0
PRODID:Spatie calendar-links
BEGIN:VEVENT
UID:23c685c8-4b2f-47d4-9b56-8a1d7eca1450
SUMMARY:All Ball: PS 35\, 5 v 5 Full
DTSTAMP:20260429T221500Z
DTSTART:20260429T221500Z
DTEND:20260429T234500Z
LOCATION:317 West 52nd Street \nNew York\, NY\, 10019
END:VEVENT
END:VCALENDAR