BEGIN:VCALENDAR
VERSION:2.0
PRODID:Spatie calendar-links
BEGIN:VEVENT
UID:5c02407a-e457-43c8-9d41-80b38c1cc2d7
SUMMARY:All Ball: PS 35\, 5 v 5 Full\, Select
DTSTAMP:20260429T234500Z
DTSTART:20260429T234500Z
DTEND:20260430T011500Z
LOCATION:317 West 52nd Street \nNew York\, NY\, 10019
END:VEVENT
END:VCALENDAR