BEGIN:VCALENDAR
VERSION:2.0
PRODID:Spatie calendar-links
BEGIN:VEVENT
UID:ffad9107-9f3e-459c-ad94-f32e205a774a
SUMMARY:All Ball: PS 35\, 5 v 5 Full
DTSTAMP:20260430T221500Z
DTSTART:20260430T221500Z
DTEND:20260430T234500Z
LOCATION:317 West 52nd Street \nNew York\, NY\, 10019
END:VEVENT
END:VCALENDAR