BEGIN:VCALENDAR
VERSION:2.0
PRODID:Spatie calendar-links
BEGIN:VEVENT
UID:1efae42e-c724-49c1-995a-07d963eaa798
SUMMARY:All Ball: PS 35\, 5 v 5 Full\, Elite
DTSTAMP:20260430T234500Z
DTSTART:20260430T234500Z
DTEND:20260501T011500Z
LOCATION:317 West 52nd Street \nNew York\, NY\, 10019
END:VEVENT
END:VCALENDAR