BEGIN:VCALENDAR
VERSION:2.0
PRODID:Spatie calendar-links
BEGIN:VEVENT
UID:da11c405-0612-4762-b782-286d3bba9449
SUMMARY:All Ball: MS 113\, 5 v 5 Full\, Select
DTSTAMP:20260420T221500Z
DTSTART:20260420T221500Z
DTEND:20260421T000000Z
LOCATION:300 Adelphi Street \nBrooklyn\, NY\, 11205
END:VEVENT
END:VCALENDAR