BEGIN:VCALENDAR
VERSION:2.0
PRODID:Spatie calendar-links
BEGIN:VEVENT
UID:42c768b5-3a01-4f74-9737-e3eb5ae543c2
SUMMARY:All Ball: MS 113\, 5 v 5 Full
DTSTAMP:20260421T221500Z
DTSTART:20260421T221500Z
DTEND:20260422T000000Z
LOCATION:300 Adelphi Street \nBrooklyn\, NY\, 11205
END:VEVENT
END:VCALENDAR